BEGIN:VCALENDAR
VERSION:2.0
PRODID:-// Enkeltaugliche Erde - ECPv6.15.20//NONSGML v1.0//EN
CALSCALE:GREGORIAN
METHOD:PUBLISH
X-ORIGINAL-URL:https://enkeltaugliche-erde.com
X-WR-CALDESC:Veranstaltungen für  Enkeltaugliche Erde
REFRESH-INTERVAL;VALUE=DURATION:PT1H
X-Robots-Tag:noindex
X-PUBLISHED-TTL:PT1H
BEGIN:VTIMEZONE
TZID:Europe/Berlin
BEGIN:DAYLIGHT
TZOFFSETFROM:+0100
TZOFFSETTO:+0200
TZNAME:CEST
DTSTART:20240331T010000
END:DAYLIGHT
BEGIN:STANDARD
TZOFFSETFROM:+0200
TZOFFSETTO:+0100
TZNAME:CET
DTSTART:20241027T010000
END:STANDARD
BEGIN:DAYLIGHT
TZOFFSETFROM:+0100
TZOFFSETTO:+0200
TZNAME:CEST
DTSTART:20250330T010000
END:DAYLIGHT
BEGIN:STANDARD
TZOFFSETFROM:+0200
TZOFFSETTO:+0100
TZNAME:CET
DTSTART:20251026T010000
END:STANDARD
BEGIN:DAYLIGHT
TZOFFSETFROM:+0100
TZOFFSETTO:+0200
TZNAME:CEST
DTSTART:20260329T010000
END:DAYLIGHT
BEGIN:STANDARD
TZOFFSETFROM:+0200
TZOFFSETTO:+0100
TZNAME:CET
DTSTART:20261025T010000
END:STANDARD
BEGIN:DAYLIGHT
TZOFFSETFROM:+0100
TZOFFSETTO:+0200
TZNAME:CEST
DTSTART:20270328T010000
END:DAYLIGHT
BEGIN:STANDARD
TZOFFSETFROM:+0200
TZOFFSETTO:+0100
TZNAME:CET
DTSTART:20271031T010000
END:STANDARD
END:VTIMEZONE
BEGIN:VEVENT
DTSTART;TZID=Europe/Berlin:20260311T180000
DTEND;TZID=Europe/Berlin:20260311T200000
DTSTAMP:20260419T185416
CREATED:20260221T163341Z
LAST-MODIFIED:20260221T163341Z
UID:1449-1773252000-1773259200@enkeltaugliche-erde.com
SUMMARY:Klima Fit Stammtisch
DESCRIPTION:Download QR
URL:https://enkeltaugliche-erde.com/event/klima-fit-stammtisch/
LOCATION:KOMM-Neunkirchen\, Germany
END:VEVENT
BEGIN:VEVENT
DTSTART;TZID=Europe/Berlin:20251015T180000
DTEND;TZID=Europe/Berlin:20251015T200000
DTSTAMP:20260419T185416
CREATED:20250929T112559Z
LAST-MODIFIED:20251002T122833Z
UID:1219-1760551200-1760558400@enkeltaugliche-erde.com
SUMMARY:KlimaFit Stammtisch
DESCRIPTION:Rückblick Aktionstage Europäische Mobilitätswoche.\nUnsere Homepage wie nutzen? Beispiele aufzeigen durch Fred\nVernetzung bzw. Kooperation: Charly informiert über Gründung BUND Regionalgruppe Mittleres Illtal\, Heike informiert über ihre Aktivitäten beim Fest der Deutschen Einheit mit Omas for Future.\nWie geht es weiter mit KlimaFit-NK: Ideen und Vorstellungen von uns gemeinsam festlegen.\nSonstiges\n\n\n           Download QR
URL:https://enkeltaugliche-erde.com/event/klimafit-stammtisch-2/
LOCATION:KOMM-Neunkirchen\, Germany
END:VEVENT
BEGIN:VEVENT
DTSTART;TZID=Europe/Berlin:20251011T090000
DTEND;TZID=Europe/Berlin:20251011T130000
DTSTAMP:20260419T185416
CREATED:20251001T154252Z
LAST-MODIFIED:20251001T154252Z
UID:1269-1760173200-1760187600@enkeltaugliche-erde.com
SUMMARY:Reperaturcafe Illingen
DESCRIPTION:Zum 4 Mal öffnet das Reperaturcafe seine Türen. Bringen sie ihr defektes Gerät bitte bis 11:00 Uhr vorbei. \n\n           Download QR
URL:https://enkeltaugliche-erde.com/event/reperaturcafe-illingen/
LOCATION:VHS Illingen e.V\, Pastor-Schulz Straße 14\, 66557 Illingen
END:VEVENT
BEGIN:VEVENT
DTSTART;TZID=Europe/Berlin:20251008T180000
DTEND;TZID=Europe/Berlin:20251008T200000
DTSTAMP:20260419T185416
CREATED:20251002T111142Z
LAST-MODIFIED:20251002T111142Z
UID:1288-1759946400-1759953600@enkeltaugliche-erde.com
SUMMARY:Praxisorientierter Vortrag: Heizenergie sparen durch Kleinmaßnahme
DESCRIPTION:Rohrbacher Mühle\, Mühlstraße 36\, 66386 St. Ingbert – Die Veranstaltung findet im Rahmen der Aktionswoche „Das Saarland voller Energie“ statt ROHRBACHER MÜHLE | MÜHLSTR. 36 | 66386 ST. INGBERT\n\n\nAm Mittwoch\, den 08.10.2025 bietet die Volkshochschule (VHS) St. Ingbert von 18:00 bis 20:00 Uhr einen Vortrag zum Thema „Heizenergie sparen durch Kleinmaßnahmen“ an. In diesem Vortrag zeigt Bernd Junge\, wie man durch einfache Maßnahmen Heizenergie sparen kann. Im Anschluss besteht die Möglichkeit\, Fragen zu stellen. Eine Liste von Links zu interessanten YouTube-Videos wird ebenfalls zur Verfügung gestellt. \n\n\n           Download QR
URL:https://enkeltaugliche-erde.com/event/praxisorientierter-vortrag-heizenergie-sparen-durch-kleinmassnahme/
LOCATION:Rohrbacher Mühle\, Mühlstraße 36\, St.Ingbert\, 66386
END:VEVENT
BEGIN:VEVENT
DTSTART;TZID=Europe/Berlin:20251006T180000
DTEND;TZID=Europe/Berlin:20251006T200000
DTSTAMP:20260419T185416
CREATED:20251001T151605Z
LAST-MODIFIED:20251002T111616Z
UID:1264-1759773600-1759780800@enkeltaugliche-erde.com
SUMMARY:Gründungstreffen "BUND Regionalgruppe Mittleres Illtal"
DESCRIPTION:Die BUND-Ortsgruppe Merchweiler organisiert eine Gründungsveranstaltung für eine Regionalgruppe mittleres Illtal\, welche die Gemeinden Illingen\, Merchweiler und Schiffweiler umfasst\, als Erweiterung ihrer eigenen Ortsgruppe. \n\n           Download QR
URL:https://enkeltaugliche-erde.com/event/gruendungstreffen-bund-regionalgruppe-mittleres-illtal/
LOCATION:Illingen Poststraße 7\, Poststraße 7\, Illingen\, 66557
END:VEVENT
BEGIN:VEVENT
DTSTART;TZID=Europe/Berlin:20251004T090000
DTEND;TZID=Europe/Berlin:20251004T130000
DTSTAMP:20260419T185416
CREATED:20250929T111727Z
LAST-MODIFIED:20250929T111727Z
UID:1217-1759568400-1759582800@enkeltaugliche-erde.com
SUMMARY:PflanzTauschbörse Neunkirchen
DESCRIPTION:Download QR
URL:https://enkeltaugliche-erde.com/event/pflanztauschboerse-neunkirchen/
END:VEVENT
BEGIN:VEVENT
DTSTART;TZID=Europe/Berlin:20250921T100000
DTEND;TZID=Europe/Berlin:20250921T143000
DTSTAMP:20260419T185416
CREATED:20250806T150931Z
LAST-MODIFIED:20250902T165947Z
UID:1001-1758448800-1758465000@enkeltaugliche-erde.com
SUMMARY:Merchweiler fährt Rad
DESCRIPTION:Foto Elisabeth Kirsch \n\n           Download QR
URL:https://enkeltaugliche-erde.com/event/merchweiler-faehrt-rad/
END:VEVENT
BEGIN:VEVENT
DTSTART;TZID=Europe/Berlin:20250920T100000
DTEND;TZID=Europe/Berlin:20250920T140000
DTSTAMP:20260419T185416
CREATED:20250716T114510Z
LAST-MODIFIED:20250716T114510Z
UID:677-1758362400-1758376800@enkeltaugliche-erde.com
SUMMARY:Aktionstag Europäische Mobilitätswende Neunkirchen
DESCRIPTION:Download QR
URL:https://enkeltaugliche-erde.com/event/aktionstag-europaeische-mobilitaetswende-neunkirchen/
LOCATION:Neunkirchen Stummplatz
END:VEVENT
BEGIN:VEVENT
DTSTART;TZID=Europe/Berlin:20250916T000000
DTEND;TZID=Europe/Berlin:20250922T235959
DTSTAMP:20260419T185416
CREATED:20250806T153001Z
LAST-MODIFIED:20250806T153001Z
UID:1010-1757980800-1758585599@enkeltaugliche-erde.com
SUMMARY:Europäische Mobilitätswoche-St.Ingbert
DESCRIPTION:Download QR
URL:https://enkeltaugliche-erde.com/event/europaeische-mobilitaetswoche-st-ingbert/
LOCATION:St.Ingbert
END:VEVENT
BEGIN:VEVENT
DTSTART;TZID=Europe/Berlin:20250905T180000
DTEND;TZID=Europe/Berlin:20250905T200000
DTSTAMP:20260419T185416
CREATED:20250811T091413Z
LAST-MODIFIED:20250811T091413Z
UID:1026-1757095200-1757102400@enkeltaugliche-erde.com
SUMMARY:BUND Merchweiler Teamsitzung
DESCRIPTION:5 \n\n           Download QR
URL:https://enkeltaugliche-erde.com/event/bund-merchweiler-teamsitzung/
END:VEVENT
BEGIN:VEVENT
DTSTART;TZID=Europe/Berlin:20250820T180000
DTEND;TZID=Europe/Berlin:20250820T200000
DTSTAMP:20260419T185416
CREATED:20250807T153841Z
LAST-MODIFIED:20250807T153841Z
UID:1024-1755712800-1755720000@enkeltaugliche-erde.com
SUMMARY:KlimaFit Stammtisch
DESCRIPTION:Download QR
URL:https://enkeltaugliche-erde.com/event/klimafit-stammtisch/
LOCATION:KOMM-Neunkirchen\, Germany
END:VEVENT
BEGIN:VEVENT
DTSTART;TZID=Europe/Berlin:20250819T160000
DTEND;TZID=Europe/Berlin:20250819T180000
DTSTAMP:20260419T185416
CREATED:20250806T152343Z
LAST-MODIFIED:20250806T152343Z
UID:1006-1755619200-1755626400@enkeltaugliche-erde.com
SUMMARY:Omas for Future TeamTreff
DESCRIPTION:Download QR
URL:https://enkeltaugliche-erde.com/event/omas-for-future-teamtreff-2/
LOCATION:Saarbrücken Haus der Umwelt
END:VEVENT
BEGIN:VEVENT
DTSTART;TZID=Europe/Berlin:20250716T180000
DTEND;TZID=Europe/Berlin:20250716T200000
DTSTAMP:20260419T185416
CREATED:20250701T135043Z
LAST-MODIFIED:20250707T151611Z
UID:137-1752688800-1752696000@enkeltaugliche-erde.com
SUMMARY:Klimafit-NK Stammtisch
DESCRIPTION:Download QR
URL:https://enkeltaugliche-erde.com/event/klimafit-nk-stammtisch/
LOCATION:KOMM-Neunkirchen\, Germany
END:VEVENT
BEGIN:VEVENT
DTSTART;TZID=Europe/Berlin:20250709T180000
DTEND;TZID=Europe/Berlin:20250709T200000
DTSTAMP:20260419T185416
CREATED:20250707T151231Z
LAST-MODIFIED:20250707T151231Z
UID:441-1752084000-1752091200@enkeltaugliche-erde.com
SUMMARY:Bund Merchweiler/ erweiterte Vorstandssitzung
DESCRIPTION:Download QR
URL:https://enkeltaugliche-erde.com/event/bund-merchweiler-erweiterte-vorstandssitzung/
END:VEVENT
BEGIN:VEVENT
DTSTART;TZID=Europe/Berlin:20250708T160000
DTEND;TZID=Europe/Berlin:20250708T183000
DTSTAMP:20260419T185416
CREATED:20250707T150959Z
LAST-MODIFIED:20250707T150959Z
UID:439-1751990400-1751999400@enkeltaugliche-erde.com
SUMMARY:Omas-for-Future /Teamtreff
DESCRIPTION:Download QR
URL:https://enkeltaugliche-erde.com/event/omas-for-future-teamtreff/
END:VEVENT
END:VCALENDAR